BEGIN:VCALENDAR
VERSION:2.0
PRODID:-//Stratis iCal API//FR
CALSCALE:GREGORIAN
X-WR-CALNAME:Comment économiser l’eau ? Une soirée ouverte à tous pour partager les bons gestes : Journée mondiale de l’eau à Saintes
BEGIN:VEVENT
UID:event-2953
SUMMARY:Comment économiser l’eau ? Une soirée ouverte à tous pour partager les bons gestes : Journée mondiale de l’eau à Saintes
DESCRIPTION:En 2026  la Journée mondiale de l’eau revient à l’Agrocampus de Saintonge pour une neuvième édition. La thématique de cette année : comment économiser l’eau ?   Cet évènement est gratuit et ouvert à tous. Organisé en partenariat avec l’association TERDEV  il invite à nous interroger sur nos usages et pratiques au quotidien. 
DTSTAMP:20260220T072314Z
DTSTART:20260326T190000Z
DTEND:20260326T220000Z
STATUS:CONFIRMED
SEQUENCE:5
BEGIN:VALARM
TRIGGER:-PT30M
DESCRIPTION:Comment économiser l’eau ? Une soirée ouverte à tous pour partager les bons gestes : Journée mondiale de l’eau à Saintes
ACTION:DISPLAY
END:VALARM
END:VEVENT
END:VCALENDAR