BEGIN:VCALENDAR
VERSION:2.0
PRODID:-//Stratis iCal API//FR
CALSCALE:GREGORIAN
X-WR-CALNAME:Réduire les consommations d’eau et faire des économies : Eau 17 partage les bons gestes à Saint-Pierre-d’Oléron
BEGIN:VEVENT
UID:event-3023
SUMMARY:Réduire les consommations d’eau et faire des économies : Eau 17 partage les bons gestes à Saint-Pierre-d’Oléron
DESCRIPTION:Vendredi 24 avril  Eau 17 et la Communauté de Communes de l’île d’Oléron iront à la rencontre des habitants pour échanger sur les économies d’eau et les bonnes pratiques au quotidien. Ce temps d’échange sera également l’occasion de présenter le dispositif d’aide à l’achat de récupérateurs d’eau de pluie mis en place sur l’île d’Oléron.  Rendez-vous au magasin Mr Bricolage de 9h30 à 12h30 .
DTSTAMP:20260410T123027Z
DTSTART:20260424T073000Z
DTEND:20260424T103000Z
STATUS:CONFIRMED
SEQUENCE:15
BEGIN:VALARM
TRIGGER:-PT30M
DESCRIPTION:Réduire les consommations d’eau et faire des économies : Eau 17 partage les bons gestes à Saint-Pierre-d’Oléron
ACTION:DISPLAY
END:VALARM
END:VEVENT
END:VCALENDAR